BEGIN:VCALENDAR
VERSION:2.0
PRODID:-//wp-events-plugin.com//7.2.3.1//EN
TZID:America/New_York
X-WR-TIMEZONE:America/New_York
BEGIN:VEVENT
UID:80@welcomehouseinc.org
DTSTART;TZID=America/New_York:20160421T180000
DTEND;TZID=America/New_York:20160421T180000
DTSTAMP:20160317T210056Z
URL:https://www.welcomehouseinc.org/events/strategic-planning-meeting/
SUMMARY:Strategic Planning Meeting
DESCRIPTION:Welcome House has engaged Janus Small Associates to complete a 
 strategic plan for our organization. Through the strategic planning proces
 s\, our consultants are meeting with many key constituent groups\, includi
 ng clients\, funders\, staff and\, of course\, family members. We would li
 ke to invite you to attend a strategic planning session to help us set our
  course for the future. This meeting will not cover all of the material be
 ing discussed in the family meetings\, although I will offer a brief intro
 duction if you are unable to attend a family meeting. We do need to limit 
 this group to 25 family members. Please call Meg at 440-356-2330\, ext. 23
 0 if you are interested.
LOCATION:Welcome House Home Office\, 802 Sharon Drive\, Suite A\, Westlake\
 , Ohio\, 44145\, United States
GEO:41.473498;-81.89299499999998
X-APPLE-STRUCTURED-LOCATION;VALUE=URI;X-ADDRESS=802 Sharon Drive\, Suite A\
 , Westlake\, Ohio\, 44145\, United States;X-APPLE-RADIUS=100;X-TITLE=Welco
 me House Home Office:geo:41.473498,-81.89299499999998
END:VEVENT
BEGIN:VTIMEZONE
TZID:America/New_York
X-LIC-LOCATION:America/New_York
BEGIN:DAYLIGHT
DTSTART:20160313T030000
TZOFFSETFROM:-0500
TZOFFSETTO:-0400
TZNAME:EDT
END:DAYLIGHT
END:VTIMEZONE
END:VCALENDAR