BEGIN:VCALENDAR
VERSION:2.0
PRODID:-//wp-events-plugin.com//7.2.3.1//EN
TZID:America/New_York
X-WR-TIMEZONE:America/New_York
BEGIN:VEVENT
UID:13@welcomehouseinc.org
DTSTART;TZID=America/New_York:20131018T000000
DTEND;TZID=America/New_York:20131018T000000
DTSTAMP:20130307T185226Z
URL:https://www.welcomehouseinc.org/events/reverse-raffle/
SUMMARY:Reverse Raffle
DESCRIPTION:The Welcome House Family Council cordially invites you to atten
 d this year’s Reverse Raffle at the St. Demetrios Party Center\, 22909 C
 enter Ridge Rd Cleveland\, OH 44116.  The evening features a reverse raff
 le with a $2\,000 grand prize\, catered dinner\, silent auction and side b
 oard raffles.  For tickets\, please contact Sandy Panik at 216.941.7250
LOCATION:St. Demetrios Party Center\, 22909 Center Ridge Rd\, Cleveland\, O
 H\, 44116\, United States
GEO:41.455362;-81.873986
X-APPLE-STRUCTURED-LOCATION;VALUE=URI;X-ADDRESS=22909 Center Ridge Rd\, Cle
 veland\, OH\, 44116\, United States;X-APPLE-RADIUS=100;X-TITLE=St. Demetri
 os Party Center:geo:41.455362,-81.873986
END:VEVENT
BEGIN:VTIMEZONE
TZID:America/New_York
X-LIC-LOCATION:America/New_York
BEGIN:DAYLIGHT
DTSTART:20130310T030000
TZOFFSETFROM:-0500
TZOFFSETTO:-0400
TZNAME:EDT
END:DAYLIGHT
END:VTIMEZONE
END:VCALENDAR