BEGIN:VCALENDAR
VERSION:2.0
PRODID:-//wp-events-plugin.com//7.2.3.1//EN
TZID:America/New_York
X-WR-TIMEZONE:America/New_York
BEGIN:VEVENT
UID:58@welcomehouseinc.org
DTSTART;TZID=America/New_York:20150927T133000
DTEND;TZID=America/New_York:20150927T153000
DTSTAMP:20150810T153104Z
URL:https://www.welcomehouseinc.org/events/northeast-ohio-sibs-regional-ge
 t-together-and-info-sharing/
SUMMARY:Northeast Ohio SIBS Regional Get Together and Info Sharing
DESCRIPTION:The Ohio Sibs NE Ohio Regional Meeting is being held on Septemb
 er 27\, 2015. Our own Bobbi Burkey will be presenting on the Parent Compas
 s. Please join us! See the attached flyer for details.\n\nHosted By: \nSib
 lings Mary Nix and Joann Watterson\n\nSpeakers:\nBarb Sapharas\, Chair of 
 the National Sibling Leadership Network\, and Board Mmber of the Ohio SIBS
  will share more about these groups and the many resources it offers both 
 online and off.\n\nhttp://siblingleadership.org/about/who-we-are/\nwww.ohi
 osibs.com\n\nBobbi Burkey\, Program Director of Welcome House will be with
  us to share their wonderful tool\, Parent Compass.\nhttp://parentcompass.
 www.welcomehouseinc.org/\n\nQuestions: \nBarb at 440-227-2338\nMary at mar
 ynix2@cox.net
ATTACH;FMTTYPE=image/jpeg:https://www.welcomehouseinc.org/wp-content/uploa
 ds/2015/08/ohsibs.jpg
LOCATION:Independence Branch of the Cuyahoga County Public Library\, 6361 S
 elig Drive\, Independence\, Oh\, 44131\, United States
GEO:41.3769685;-81.64689579999998
X-APPLE-STRUCTURED-LOCATION;VALUE=URI;X-ADDRESS=6361 Selig Drive\, Independ
 ence\, Oh\, 44131\, United States;X-APPLE-RADIUS=100;X-TITLE=Independence 
 Branch of the Cuyahoga County Public Library:geo:41.3769685,-81.6468957999
 9998
END:VEVENT
BEGIN:VTIMEZONE
TZID:America/New_York
X-LIC-LOCATION:America/New_York
BEGIN:DAYLIGHT
DTSTART:20150308T030000
TZOFFSETFROM:-0500
TZOFFSETTO:-0400
TZNAME:EDT
END:DAYLIGHT
END:VTIMEZONE
END:VCALENDAR