BEGIN:VCALENDAR
VERSION:2.0
PRODID:-//wp-events-plugin.com//7.2.3.1//EN
TZID:America/New_York
X-WR-TIMEZONE:America/New_York
BEGIN:VEVENT
UID:51@welcomehouseinc.org
DTSTART;TZID=America/New_York:20150426T060000
DTEND;TZID=America/New_York:20150426T200000
DTSTAMP:20150327T205608Z
URL:https://www.welcomehouseinc.org/events/kellys-hollywood/
SUMMARY:Kelly’s Hollywood
DESCRIPTION:Kelly's Hollywood will make its Cleveland debut at John Carroll
  University. Kelly’s Hollywood is a touching tale of a brother’s journ
 ey with his sister who dreamt of being a Hollywood star.\n\nDownload the f
 lyer
ATTACH;FMTTYPE=image/jpeg:https://www.welcomehouseinc.org/wp-content/uploa
 ds/2015/03/KellysHollywood.jpg
LOCATION:Dolan Science Center Auditorium John Carroll University\, 1 John C
 arroll Blvd\, University Heights\, Oh\, 44118\, United States
GEO:41.48881129999999;-81.53307269999999
X-APPLE-STRUCTURED-LOCATION;VALUE=URI;X-ADDRESS=1 John Carroll Blvd\, Unive
 rsity Heights\, Oh\, 44118\, United States;X-APPLE-RADIUS=100;X-TITLE=Dola
 n Science Center Auditorium John Carroll University:geo:41.48881129999999,
 -81.53307269999999
END:VEVENT
BEGIN:VTIMEZONE
TZID:America/New_York
X-LIC-LOCATION:America/New_York
BEGIN:DAYLIGHT
DTSTART:20150308T030000
TZOFFSETFROM:-0500
TZOFFSETTO:-0400
TZNAME:EDT
END:DAYLIGHT
END:VTIMEZONE
END:VCALENDAR