BEGIN:VCALENDAR
VERSION:2.0
PRODID:-//wp-events-plugin.com//7.2.3.1//EN
TZID:America/New_York
X-WR-TIMEZONE:America/New_York
BEGIN:VEVENT
UID:81@welcomehouseinc.org
DTSTART;TZID=America/New_York:20160423T150000
DTEND;TZID=America/New_York:20160423T170000
DTSTAMP:20160318T164338Z
URL:https://www.welcomehouseinc.org/events/house-2-turns-35-open-house/
SUMMARY:House 2 Turns 35\, Open House
DESCRIPTION:Join us for an open house as we celebrate the 35th Anniversary 
 of Welcome House’s first home opening its doors! The guys at House 2 wil
 l be welcoming guests from 3:00 – 5:00 p.m. on Saturday\, April 23. It w
 ill be a great look at Welcome House through the years.  Hope you can sto
 p by!
LOCATION:House 2\, 2600 Dover Center Road\, Westlake\, Oh\, 44145\, United 
 States
GEO:41.450609;-81.92272600000001
X-APPLE-STRUCTURED-LOCATION;VALUE=URI;X-ADDRESS=2600 Dover Center Road\, We
 stlake\, Oh\, 44145\, United States;X-APPLE-RADIUS=100;X-TITLE=House 2:geo
 :41.450609,-81.92272600000001
END:VEVENT
BEGIN:VTIMEZONE
TZID:America/New_York
X-LIC-LOCATION:America/New_York
BEGIN:DAYLIGHT
DTSTART:20160313T030000
TZOFFSETFROM:-0500
TZOFFSETTO:-0400
TZNAME:EDT
END:DAYLIGHT
END:VTIMEZONE
END:VCALENDAR