BEGIN:VCALENDAR
VERSION:2.0
PRODID:-//wp-events-plugin.com//7.2.3.1//EN
TZID:America/New_York
X-WR-TIMEZONE:America/New_York
BEGIN:VEVENT
UID:89@welcomehouseinc.org
DTSTART;TZID=America/New_York:20180426T180000
DTEND;TZID=America/New_York:20180426T200000
DTSTAMP:20180403T145351Z
URL:https://www.welcomehouseinc.org/events/2018-east-side-family-meeting/
SUMMARY:2018 East Side Family Meeting
DESCRIPTION:It is that time again! Join Executive Director Tony Thomas and 
 other senior staff to discuss the goings on at Welcome House!\n\nAt this m
 eeting we will be discussing topics ranging from changes taking place with
 in Welcome House to larger legislative issues confronting the community. B
 ut I am happy to entertain any other topics that are of importance for you
 . Please feel free to email Tony at tthomas@www.welcomehouseinc.org with t
 opics you would like to discuss or put on the agenda.\n\nMeeting will be h
 eld in&nbsp\;Meeting Room A
ATTACH;FMTTYPE=image/jpeg:https://www.welcomehouseinc.org/wp-content/uploa
 ds/2015/03/meeting.jpg
LOCATION:Cleveland Heights-University Heights Pl Central Library\, 2345 Lee
  Road\, Cleveland Heights\, OH\, 44118\, United States
GEO:41.4959016;-81.56466490000003
X-APPLE-STRUCTURED-LOCATION;VALUE=URI;X-ADDRESS=2345 Lee Road\, Cleveland H
 eights\, OH\, 44118\, United States;X-APPLE-RADIUS=100;X-TITLE=Cleveland H
 eights-University Heights Pl Central Library:geo:41.4959016,-81.5646649000
 0003
END:VEVENT
BEGIN:VTIMEZONE
TZID:America/New_York
X-LIC-LOCATION:America/New_York
BEGIN:DAYLIGHT
DTSTART:20180311T030000
TZOFFSETFROM:-0500
TZOFFSETTO:-0400
TZNAME:EDT
END:DAYLIGHT
END:VTIMEZONE
END:VCALENDAR