BEGIN:VCALENDAR
VERSION:2.0
PRODID:-//wp-events-plugin.com//7.2.3.1//EN
TZID:America/New_York
X-WR-TIMEZONE:America/New_York
BEGIN:VEVENT
UID:85@welcomehouseinc.org
DTSTART;TZID=America/New_York:20170605T110000
DTEND;TZID=America/New_York:20170605T200000
DTSTAMP:20170424T200810Z
URL:https://www.welcomehouseinc.org/events/2017-golf-outing/
SUMMARY:2017 Golf Outing
DESCRIPTION:2017 - Eleventh Annual\nGolf Outing\nJune 05\, 2017 | Red Tail 
 Golf Club\nBenefiting Welcome House &amp\; The Michael T. George Center fo
 r Community Living\n\nPlease join us on Monday\, June 5th. Together\, we c
 an make a difference in the lives of individuals with developmental disabi
 lities at Welcome House and the state-of-the-art Michael T. George Center 
 for Community Living.\n\nTo participate or for more information\, please c
 ontact Meg Nachtwey at Welcome House at (440) 356-2330\, ext. 230 or mnach
 twey@www.welcomehouseinc.org\n\nField limited to 30 foursomes. Check out t
 he flyer here.
LOCATION:Red Tail Golf Club\, 4400 Lear Nagle Road\, Avon\, Oh\, 44011\, Un
 ited States
GEO:41.4188448;-81.98964039999998
X-APPLE-STRUCTURED-LOCATION;VALUE=URI;X-ADDRESS=4400 Lear Nagle Road\, Avon
 \, Oh\, 44011\, United States;X-APPLE-RADIUS=100;X-TITLE=Red Tail Golf Clu
 b:geo:41.4188448,-81.98964039999998
END:VEVENT
BEGIN:VTIMEZONE
TZID:America/New_York
X-LIC-LOCATION:America/New_York
BEGIN:DAYLIGHT
DTSTART:20170312T030000
TZOFFSETFROM:-0500
TZOFFSETTO:-0400
TZNAME:EDT
END:DAYLIGHT
END:VTIMEZONE
END:VCALENDAR